BEGIN:VCALENDAR
VERSION:2.0
PRODID:-//ExpressionEngine Easy iCalendar plugin//NONSGML v2.0.0//EN
X-WR-TIMEZONE:America/Los_Angeles
X-WR-CALNAME:Upcoming Auctions
BEGIN:VEVENT
UID:130520
DTSTAMP:20241101T000000
DTSTART:20241101T000000
DTEND:20241211T140000
SUMMARY:Buena Park\, CA:  Complete Print and Mail House
LOCATION:6800 Orangethorpe Avenue\, Suites F\, G & H\, Buena Park\, CA 90
 620\, US
DESCRIPTION:Assets Include: AKIMAYA HI-ACE 428-C\, ORIGINAL HEIDELBERG 
 Offset Letterset 19 x 25 1/2\, BESTECH 28\, HAMADA 665CD\, POLA
 R-MOHR Eltromat 90\, ORIGINAL HEIDELBERG CYLINDER 21 1/4 x 2
 8 3/8\, KIRK-RUDY 535CS\, KIRK-RUDY 821-1\, KIRK-RUDY 215-B\, Fo
 lders\, Conveyors\, Ink-jet Printers\, Office Furniture\, Wareho
 use Equipment and much more!
URL:https://www.amcbid.com/auctions/detail/bw130520
SEQUENCE:1
END:VEVENT
END:VCALENDAR