BEGIN:VCALENDAR
VERSION:2.0
PRODID:-//ExpressionEngine Easy iCalendar plugin//NONSGML v2.0.1//EN
X-WR-TIMEZONE:America/New_York
X-WR-CALNAME:Upcoming Auctions
BEGIN:VEVENT
UID:160844
DTSTAMP:20260417T120000
DTSTART:20260417T120000
DTEND:20260520T100000
SUMMARY:Day 2: Cleveland\, OH: Assets of Former College Featuring Com
 mercial Kitchen & Cafeteria\, Laboratory\, Classroom & Office 
 Equipment
LOCATION:1857 S Green Rd\, South Euclid\, OH 44121\, US
DESCRIPTION:Assets Include: PYREX Laboratory Glassware\, KEWAUNEE Vent Ho
 ods\, EPPENDORF Centrifuge 5403\, VARIAN SpectrAA-200\, FORMA P
 owerFREEZE ULT Freezer\, TUTTNAUER 2540M Autoclave\, NAPCO 900
 0-D Autoclave\, SOUTHBEND Ovens\, BLODGETT Ovens\, TRAULSEN 4 D
 oor Cooler\, CLEVELAND Steamcraft Ultra 10\, PITCO Fryers\, DEA
 N Fryers\, LINCOLN Enodis Double Stacked Pizza Oven & Much Mo
 re!
URL:https://www.amcbid.com/auctions/detail/bw160844
SEQUENCE:1
END:VEVENT
END:VCALENDAR