BEGIN:VCALENDAR
VERSION:2.0
PRODID:-//ExpressionEngine Easy iCalendar plugin//NONSGML v2.0.0//EN
X-WR-TIMEZONE:America/New_York
X-WR-CALNAME:Upcoming Auctions
BEGIN:VEVENT
UID:58651
DTSTAMP:20201214T140000
DTSTART:20201214T140000
DTEND:20210119T140000
SUMMARY:Atlanta\, GA: Online Only Auction of Vacuum Formers
LOCATION:{location}
DESCRIPTION:PRE-AUCTION OFFERS INVITED NOW FOR MAJOR ASSETS
URL:https://www.amcbid.com/auctions/detail/bw58651
SEQUENCE:1
END:VEVENT
END:VCALENDAR