BEGIN:VCALENDAR
VERSION:2.0
PRODID:-//ExpressionEngine Easy iCalendar plugin//NONSGML v2.0.0//EN
X-WR-TIMEZONE:America/New_York
X-WR-CALNAME:Upcoming Auctions
BEGIN:VEVENT
UID:49175
DTSTAMP:20200416T140000
DTSTART:20200416T140000
DTEND:20200610T140000
SUMMARY:Cleveland\, OH: Metal Fabrication Equipment
LOCATION:10408 Berea Rd.\, Cleveland\, OH 44102\, US
DESCRIPTION:Steel Cabinet Manufacturer in Cleveland\, Ohio. Available as 
 an entirety or piecemeal.
URL:https://www.amcbid.com/auctions/detail/cleveland-oh-metal-fa
 brication-equipment-bw49175
SEQUENCE:1
END:VEVENT
END:VCALENDAR